BEGIN:VCALENDAR
VERSION:2.0
PRODID:-//Shelby County Democrats - ECPv6.15.20//NONSGML v1.0//EN
CALSCALE:GREGORIAN
METHOD:PUBLISH
X-WR-CALNAME:Shelby County Democrats
X-ORIGINAL-URL:https://shelbycountydems.com
X-WR-CALDESC:Events for Shelby County Democrats
REFRESH-INTERVAL;VALUE=DURATION:PT1H
X-Robots-Tag:noindex
X-PUBLISHED-TTL:PT1H
BEGIN:VTIMEZONE
TZID:America/Chicago
BEGIN:DAYLIGHT
TZOFFSETFROM:-0600
TZOFFSETTO:-0500
TZNAME:CDT
DTSTART:20250309T080000
END:DAYLIGHT
BEGIN:STANDARD
TZOFFSETFROM:-0500
TZOFFSETTO:-0600
TZNAME:CST
DTSTART:20251102T070000
END:STANDARD
BEGIN:DAYLIGHT
TZOFFSETFROM:-0600
TZOFFSETTO:-0500
TZNAME:CDT
DTSTART:20260308T080000
END:DAYLIGHT
BEGIN:STANDARD
TZOFFSETFROM:-0500
TZOFFSETTO:-0600
TZNAME:CST
DTSTART:20261101T070000
END:STANDARD
BEGIN:DAYLIGHT
TZOFFSETFROM:-0600
TZOFFSETTO:-0500
TZNAME:CDT
DTSTART:20270314T080000
END:DAYLIGHT
BEGIN:STANDARD
TZOFFSETFROM:-0500
TZOFFSETTO:-0600
TZNAME:CST
DTSTART:20271107T070000
END:STANDARD
END:VTIMEZONE
BEGIN:VEVENT
DTSTART;TZID=America/Chicago:20260224T090000
DTEND;TZID=America/Chicago:20260320T140000
DTSTAMP:20260420T090135
CREATED:20260225T210327Z
LAST-MODIFIED:20260225T210327Z
UID:6311-1771923600-1774015200@shelbycountydems.com
SUMMARY:Adult Diaper Drive
DESCRIPTION:There will be an Adult Diaper Drive in partnership with Order of the Eastern Star – Harris Pride #437\, through 2:00 pm on March 20th.\n\nDrop off donations at 211A Yeager Parkway\, Pelham\, AL 35124 (during business hours).
URL:https://shelbycountydems.com/event/adult-diaper-drive/
END:VEVENT
BEGIN:VEVENT
DTSTART;TZID=America/Chicago:20260306T190000
DTEND;TZID=America/Chicago:20260306T190000
DTSTAMP:20260420T090135
CREATED:20260127T180352Z
LAST-MODIFIED:20260127T180532Z
UID:6259-1772823600-1772823600@shelbycountydems.com
SUMMARY:2026 Bridge Crossing Gala
DESCRIPTION:Information about the 2026 Bridge Crossing Gala is below.  Cost per ticket is $100 if purchased before February 6\, or $125 afterward.
URL:https://shelbycountydems.com/event/2026-bridge-crossing-gala/
END:VEVENT
BEGIN:VEVENT
DTSTART;TZID=America/Chicago:20260307T090000
DTEND;TZID=America/Chicago:20260307T103000
DTSTAMP:20260420T090135
CREATED:20260225T211614Z
LAST-MODIFIED:20260225T211614Z
UID:6315-1772874000-1772879400@shelbycountydems.com
SUMMARY:Backpack Buddies Packing Party
DESCRIPTION:Event will be at Vineyard Family Services\, 2834-J Pelham Pkwy\, Pelham\, AL 35124\, from 9:00 am – 10:30 am.
URL:https://shelbycountydems.com/event/backpack-buddies-packing-party-2/
END:VEVENT
BEGIN:VEVENT
DTSTART;TZID=America/Chicago:20260310T180000
DTEND;TZID=America/Chicago:20260310T193000
DTSTAMP:20260420T090135
CREATED:20260227T171654Z
LAST-MODIFIED:20260227T171654Z
UID:6305-1773165600-1773171000@shelbycountydems.com
SUMMARY:Shelby Democrats Book Group
DESCRIPTION:The Shelby County Book Group meets on the 2nd Tuesday of each month\, 6:00 pm – 7:30 pm\, via Zoom. \nIf you would like to join our group\, please contact Brenda Harris at addiesgranna@gmail.com. \nThis month\, Blythe Christensen will lead a discussion of “The Book Thief” by Markus Zuzak.  “In 1939 Nazi Germany\, Liesel’s life is changed when she picks up a single object\, partially hidden in the snow. It is The Gravedigger’s Handbook\, left behind there by accident\, and it is her first act of book thievery. So begins a love affair with books and words\, as Liesel\, with the help of her accordian-playing foster father\, learns to read. Soon she is stealing books from Nazi book-burnings\, the mayor’s wife’s library\, wherever there are books to be found.”
URL:https://shelbycountydems.com/event/shelby-democrats-book-group/
END:VEVENT
BEGIN:VEVENT
DTSTART;TZID=America/Chicago:20260315T140000
DTEND;TZID=America/Chicago:20260315T160000
DTSTAMP:20260420T090135
CREATED:20260225T205130Z
LAST-MODIFIED:20260227T171022Z
UID:6307-1773583200-1773590400@shelbycountydems.com
SUMMARY:Shelby Democrats Social
DESCRIPTION:The next Shelby Democrats Social will be Sunday\, March 15\, at Mizuwa Japanese Steakhouse\, 750 Colonial Promenade Pkwy.\, Alabaster\, AL 35007.  Come enjoy the company of other Democrats! \nPlease RSVP at shelbydemssocial@gmail.com no later than Tuesday\, March 10.  We will order from the menu and pay separately. \nThis will be a great way to get to know our fellow Democrats in a relaxed setting! Please invite like-minded friends!
URL:https://shelbycountydems.com/event/shelby-democrats-social-2/
END:VEVENT
BEGIN:VEVENT
DTSTART;TZID=America/Chicago:20260319T183000
DTEND;TZID=America/Chicago:20260319T200000
DTSTAMP:20260420T090135
CREATED:20260227T171429Z
LAST-MODIFIED:20260227T171429Z
UID:6303-1773945000-1773950400@shelbycountydems.com
SUMMARY:Shelby Democrats Monthly Meeting
DESCRIPTION:Join us for the monthly meeting of the Shelby County Democratic Party and Executive Committee. The meeting is held at the Shelby County Services Building in Pelham\, on the third Thursday of each month\, 6:30 pm – 8:00 pm. \nOur guest speaker for the month is Keith Pilkington\,  Democratic Candidate for US Congress District 6. \nPlease try to attend in-person if you are able. A Zoom option will be available. Click on the Sign-up link below to register. A meeting agenda and Zoom login information will be emailed to each pre-registrant prior to the meeting. \nZoomers\, please register at least 24 hours in advance. \nSign-up Link
URL:https://shelbycountydems.com/event/shelby-democrats-monthly-meeting/
LOCATION:County Services Building (rear entrance)\, 1123 County Services Drive\, Pelham\, AL\, 35124\, United States
END:VEVENT
BEGIN:VEVENT
DTSTART;TZID=America/Chicago:20260321T130000
DTEND;TZID=America/Chicago:20260321T150000
DTSTAMP:20260420T090135
CREATED:20260225T212000Z
LAST-MODIFIED:20260317T201825Z
UID:6318-1774098000-1774105200@shelbycountydems.com
SUMMARY:Household Goods Drive
DESCRIPTION:Drop off your contributions of Household Goods for Second Shift at:  3552 Pelham Parkway\, Pelham\, AL 35124\, from 1:00 pm – 3:00 pm.
URL:https://shelbycountydems.com/event/household-goods-and-personal-hygiene-drive/
END:VEVENT
BEGIN:VEVENT
DTSTART;TZID=America/Chicago:20260325T000000
DTEND;TZID=America/Chicago:20260325T000000
DTSTAMP:20260420T090135
CREATED:20260325T213708Z
LAST-MODIFIED:20260325T213935Z
UID:6346-1774396800-1774396800@shelbycountydems.com
SUMMARY:Thriving Through Transition: Health\, Power\, and Protecting Our Voice
DESCRIPTION:Thriving Through Transition brings women together across generations to talk candidly about midlife health\, self-advocacy\, and protecting our voices in our democracy. \nRegistration link:  Click to register \n  \n \n 
URL:https://shelbycountydems.com/event/thriving-through-transition-health-power-and-protecting-our-voice/
END:VEVENT
BEGIN:VEVENT
DTSTART;VALUE=DATE:20260328
DTEND;VALUE=DATE:20260329
DTSTAMP:20260420T090135
CREATED:20260207T172123Z
LAST-MODIFIED:20260207T172241Z
UID:6286-1774656000-1774742399@shelbycountydems.com
SUMMARY:No Kings
DESCRIPTION:Save the date\, and sign up at NOKINGS.ORG for updates. \n  \n\n\n\n\n \n 
URL:https://shelbycountydems.com/event/no-kings/
END:VEVENT
END:VCALENDAR