BEGIN:VCALENDAR
VERSION:2.0
PRODID:-//Shelby County Democrats - ECPv6.15.20//NONSGML v1.0//EN
CALSCALE:GREGORIAN
METHOD:PUBLISH
X-WR-CALNAME:Shelby County Democrats
X-ORIGINAL-URL:https://shelbycountydems.com
X-WR-CALDESC:Events for Shelby County Democrats
REFRESH-INTERVAL;VALUE=DURATION:PT1H
X-Robots-Tag:noindex
X-PUBLISHED-TTL:PT1H
BEGIN:VTIMEZONE
TZID:America/Chicago
BEGIN:DAYLIGHT
TZOFFSETFROM:-0600
TZOFFSETTO:-0500
TZNAME:CDT
DTSTART:20250309T080000
END:DAYLIGHT
BEGIN:STANDARD
TZOFFSETFROM:-0500
TZOFFSETTO:-0600
TZNAME:CST
DTSTART:20251102T070000
END:STANDARD
BEGIN:DAYLIGHT
TZOFFSETFROM:-0600
TZOFFSETTO:-0500
TZNAME:CDT
DTSTART:20260308T080000
END:DAYLIGHT
BEGIN:STANDARD
TZOFFSETFROM:-0500
TZOFFSETTO:-0600
TZNAME:CST
DTSTART:20261101T070000
END:STANDARD
BEGIN:DAYLIGHT
TZOFFSETFROM:-0600
TZOFFSETTO:-0500
TZNAME:CDT
DTSTART:20270314T080000
END:DAYLIGHT
BEGIN:STANDARD
TZOFFSETFROM:-0500
TZOFFSETTO:-0600
TZNAME:CST
DTSTART:20271107T070000
END:STANDARD
END:VTIMEZONE
BEGIN:VEVENT
DTSTART;TZID=America/Chicago:20260215T140000
DTEND;TZID=America/Chicago:20260215T160000
DTSTAMP:20260423T045013
CREATED:20260107T231431Z
LAST-MODIFIED:20260107T231546Z
UID:6194-1771164000-1771171200@shelbycountydems.com
SUMMARY:Shelby Democrats Social
DESCRIPTION:The next Shelby Democrats Social will be Sunday\, February 15\, at Blue Agave\, 115 S Main St\, Columbiana\, AL 35051.  Come enjoy the company of other Democrats! \nPlease RSVP at shelbydemssocial@gmail.com no later than Thursday\, February 12.  We will order from the menu and pay separately. \nThis will be a great way to get to know our fellow Democrats in a relaxed setting! Please invite like-minded friends!
URL:https://shelbycountydems.com/event/shelby-democrats-social/
END:VEVENT
BEGIN:VEVENT
DTSTART;TZID=America/Chicago:20260212T183000
DTEND;TZID=America/Chicago:20260212T183000
DTSTAMP:20260423T045013
CREATED:20260210T185335Z
LAST-MODIFIED:20260210T185420Z
UID:6291-1770921000-1770921000@shelbycountydems.com
SUMMARY:Shelby County NAACP Monthly Meeting
DESCRIPTION:The monthly meeting is on Thursday at 6:30 pm – location Shelby County Service Building\, (Driver’s License Building in Pelham)\, 1018 County Service Dr\, Pelham.
URL:https://shelbycountydems.com/event/shelby-county-naacp-monthly-meeting/
END:VEVENT
BEGIN:VEVENT
DTSTART;TZID=America/Chicago:20260210T180000
DTEND;TZID=America/Chicago:20260210T193000
DTSTAMP:20260423T045013
CREATED:20251216T204916Z
LAST-MODIFIED:20251216T204916Z
UID:6147-1770746400-1770751800@shelbycountydems.com
SUMMARY:Shelby Democrats Book Group
DESCRIPTION:The Shelby County Book Group meets on the 2nd Tuesday of each month\, 6:00 pm – 7:30 pm\, via Zoom. \nIf you would like to join our group\, please contact Brenda Harris at addiesgranna@gmail.com. \nIn February\, we will be reading “Coming Up Short: A Memoir of My America” by Robert B. Reich. From political economist\, cabinet member\, beloved professor\, media presence\, and bestselling author of Saving Capitalism and The Common Good\, a deeply felt\, compelling memoir of growing up in a baby-boom America that made progress in certain areas\, fell short in so many important ways\, and still has lots of work to do.
URL:https://shelbycountydems.com/event/shelby-democrats-book-group-3/
END:VEVENT
BEGIN:VEVENT
DTSTART;TZID=America/Chicago:20260207T090000
DTEND;TZID=America/Chicago:20260207T103000
DTSTAMP:20260423T045013
CREATED:20260128T230253Z
LAST-MODIFIED:20260128T230253Z
UID:6271-1770454800-1770460200@shelbycountydems.com
SUMMARY:Backpack Buddies Packing Party
DESCRIPTION:
URL:https://shelbycountydems.com/event/backpack-buddies-packing-party/
END:VEVENT
BEGIN:VEVENT
DTSTART;TZID=America/Chicago:20260130T163000
DTEND;TZID=America/Chicago:20260130T183000
DTSTAMP:20260423T045013
CREATED:20260127T181542Z
LAST-MODIFIED:20260127T181542Z
UID:6264-1769790600-1769797800@shelbycountydems.com
SUMMARY:Alex Pretti Memorial
DESCRIPTION:Join us to shine a light for Alex Pretti at Railroad Park in Birmingham. \n 
URL:https://shelbycountydems.com/event/alex-pretti-memorial/
END:VEVENT
END:VCALENDAR