BEGIN:VCALENDAR
VERSION:2.0
PRODID:-//Shelby County Democrats - ECPv6.15.20//NONSGML v1.0//EN
CALSCALE:GREGORIAN
METHOD:PUBLISH
X-WR-CALNAME:Shelby County Democrats
X-ORIGINAL-URL:https://shelbycountydems.com
X-WR-CALDESC:Events for Shelby County Democrats
REFRESH-INTERVAL;VALUE=DURATION:PT1H
X-Robots-Tag:noindex
X-PUBLISHED-TTL:PT1H
BEGIN:VTIMEZONE
TZID:America/Chicago
BEGIN:DAYLIGHT
TZOFFSETFROM:-0600
TZOFFSETTO:-0500
TZNAME:CDT
DTSTART:20250309T080000
END:DAYLIGHT
BEGIN:STANDARD
TZOFFSETFROM:-0500
TZOFFSETTO:-0600
TZNAME:CST
DTSTART:20251102T070000
END:STANDARD
BEGIN:DAYLIGHT
TZOFFSETFROM:-0600
TZOFFSETTO:-0500
TZNAME:CDT
DTSTART:20260308T080000
END:DAYLIGHT
BEGIN:STANDARD
TZOFFSETFROM:-0500
TZOFFSETTO:-0600
TZNAME:CST
DTSTART:20261101T070000
END:STANDARD
BEGIN:DAYLIGHT
TZOFFSETFROM:-0600
TZOFFSETTO:-0500
TZNAME:CDT
DTSTART:20270314T080000
END:DAYLIGHT
BEGIN:STANDARD
TZOFFSETFROM:-0500
TZOFFSETTO:-0600
TZNAME:CST
DTSTART:20271107T070000
END:STANDARD
END:VTIMEZONE
BEGIN:VEVENT
DTSTART;TZID=America/Chicago:20260120T190000
DTEND;TZID=America/Chicago:20260120T200000
DTSTAMP:20260420T232845
CREATED:20251213T211215Z
LAST-MODIFIED:20251213T211343Z
UID:6131-1768935600-1768939200@shelbycountydems.com
SUMMARY:Alabama Blue School
DESCRIPTION:Modeled upon Georgia Blue School\, here’s the organizing training that helped Georgia Democrats elect two Blue US Senators. These training zooms are held on the 3rd Tuesday of every month at 7 pm. \nPlease join us for our next United Democratic Volunteers of Alabama’s Blue School where we learn and discuss skills and strategies to empower Democratic volunteers in Alabama! The speaker for the January meeting is Tabitha Isner\, Vice Chair of the Alabama Democratic Party. \nWatch previous trainings on the UDVAL Youtube Channel.  Register for the upcoming training and learn more about United Democratic Volunteers of Alabama on their website: UDVAL.org/events.
URL:https://shelbycountydems.com/event/alabama-blue-school-3/
END:VEVENT
BEGIN:VEVENT
DTSTART;TZID=America/Chicago:20260120T180000
DTEND;TZID=America/Chicago:20260120T200000
DTSTAMP:20260420T232845
CREATED:20260107T230144Z
LAST-MODIFIED:20260107T230328Z
UID:6191-1768932000-1768939200@shelbycountydems.com
SUMMARY:Meet Senate Candidate Kyle Sweetser
DESCRIPTION:Meet the Candidate session hosted by North Jeff Dems.  The event will take place at the Trussville Public Library\, 201 Parkway Dr\, Trussville\, AL 35173.
URL:https://shelbycountydems.com/event/meet-senate-candidate-kyle-sweetser/
END:VEVENT
END:VCALENDAR