BEGIN:VCALENDAR
VERSION:2.0
PRODID:-//Shelby County Democrats - ECPv6.15.20//NONSGML v1.0//EN
CALSCALE:GREGORIAN
METHOD:PUBLISH
X-ORIGINAL-URL:https://shelbycountydems.com
X-WR-CALDESC:Events for Shelby County Democrats
REFRESH-INTERVAL;VALUE=DURATION:PT1H
X-Robots-Tag:noindex
X-PUBLISHED-TTL:PT1H
BEGIN:VTIMEZONE
TZID:America/Chicago
BEGIN:DAYLIGHT
TZOFFSETFROM:-0600
TZOFFSETTO:-0500
TZNAME:CDT
DTSTART:20250309T080000
END:DAYLIGHT
BEGIN:STANDARD
TZOFFSETFROM:-0500
TZOFFSETTO:-0600
TZNAME:CST
DTSTART:20251102T070000
END:STANDARD
BEGIN:DAYLIGHT
TZOFFSETFROM:-0600
TZOFFSETTO:-0500
TZNAME:CDT
DTSTART:20260308T080000
END:DAYLIGHT
BEGIN:STANDARD
TZOFFSETFROM:-0500
TZOFFSETTO:-0600
TZNAME:CST
DTSTART:20261101T070000
END:STANDARD
BEGIN:DAYLIGHT
TZOFFSETFROM:-0600
TZOFFSETTO:-0500
TZNAME:CDT
DTSTART:20270314T080000
END:DAYLIGHT
BEGIN:STANDARD
TZOFFSETFROM:-0500
TZOFFSETTO:-0600
TZNAME:CST
DTSTART:20271107T070000
END:STANDARD
END:VTIMEZONE
BEGIN:VEVENT
DTSTART;TZID=America/Chicago:20260223T180000
DTEND;TZID=America/Chicago:20260223T191500
DTSTAMP:20260422T053712
CREATED:20260118T175927Z
LAST-MODIFIED:20260118T182346Z
UID:6235-1771869600-1771874100@shelbycountydems.com
SUMMARY:Rural Urban Divide Community Works Training - Part 2
DESCRIPTION:RURAL URBAN DIVIDE WORKSHOP  (Part 2) \nOur nation is increasingly divided across economics\, politics and culture. While race and class play major roles in this polarization\, the divide between urban and rural is perhaps the most talked about yet poorly understood component of our divisions.  \nMany progressives\, liberals and Democrats often ask\, “Why do these people vote against their own self-interests?” But perhaps the question should be\, “Why do so many people in the countryside see liberals and Democrats as opposed to their interests\, dismissive of their needs\, values and priorities?”  \nThe Rural Urban Bridge Initiative invites you to host “Understanding and Overcoming the Rural- Urban Divide”\, a highly acclaimed two-part presentation and discussion.  \nWHAT YOU’LL LEARN  \nLearn from leading thinkers and activists about the causes of the rural-urban divide and how to overcome it.  \n\nThe five underlying causes of the rural urban divide \nHow liberals\, progressives and Democrats unwittingly contribute to the divide \nHow to communicate in rural places and across the divide \nEffective strategies for community engagement and overcoming mistrust \nExamples of progressive economic development in rural communities and how policy helps or hinders this.\n\nClick here to download flyer \nClick here to register ONLY if you did not register for Part 1.
URL:https://shelbycountydems.com/event/rural-urban-divide-community-works-training-part-2/
END:VEVENT
END:VCALENDAR